BEGIN:VCALENDAR
VERSION:2.0
PRODID:-//What&#039;s Up Fort Worth? - ECPv6.15.20//NONSGML v1.0//EN
CALSCALE:GREGORIAN
METHOD:PUBLISH
X-WR-CALNAME:What&#039;s Up Fort Worth?
X-ORIGINAL-URL:https://whatsupfortworth.com
X-WR-CALDESC:Events for What&#039;s Up Fort Worth?
REFRESH-INTERVAL;VALUE=DURATION:PT1H
X-Robots-Tag:noindex
X-PUBLISHED-TTL:PT1H
BEGIN:VTIMEZONE
TZID:America/Chicago
BEGIN:DAYLIGHT
TZOFFSETFROM:-0600
TZOFFSETTO:-0500
TZNAME:CDT
DTSTART:20250309T080000
END:DAYLIGHT
BEGIN:STANDARD
TZOFFSETFROM:-0500
TZOFFSETTO:-0600
TZNAME:CST
DTSTART:20251102T070000
END:STANDARD
BEGIN:DAYLIGHT
TZOFFSETFROM:-0600
TZOFFSETTO:-0500
TZNAME:CDT
DTSTART:20260308T080000
END:DAYLIGHT
BEGIN:STANDARD
TZOFFSETFROM:-0500
TZOFFSETTO:-0600
TZNAME:CST
DTSTART:20261101T070000
END:STANDARD
BEGIN:DAYLIGHT
TZOFFSETFROM:-0600
TZOFFSETTO:-0500
TZNAME:CDT
DTSTART:20270314T080000
END:DAYLIGHT
BEGIN:STANDARD
TZOFFSETFROM:-0500
TZOFFSETTO:-0600
TZNAME:CST
DTSTART:20271107T070000
END:STANDARD
END:VTIMEZONE
BEGIN:VEVENT
DTSTART;TZID=America/Chicago:20260529T200000
DTEND;TZID=America/Chicago:20260529T220000
DTSTAMP:20260421T114020
CREATED:20260415T213936Z
LAST-MODIFIED:20260415T213936Z
UID:10016216-1780084800-1780092000@whatsupfortworth.com
SUMMARY:The Tin Woman
DESCRIPTION:When Joy receives a life-saving heart transplant\, she struggles with guilt and purpose—until she meets the grieving family of her donor. What follows is a funny\, touching\, and deeply human story about unexpected connections\, healing\, and the humor found in life’s most tender moments. The Tin Woman proves that sometimes\, the best way to move forward is to laugh through the pain. \nRated PG
URL:https://whatsupfortworth.com/event/the-tin-woman/2026-05-29/
LOCATION:Runway Theatre\, 215 N Dooley Street\, Grapevine\, 76051\, United States
CATEGORIES:Live Theatre & Performing Arts
ATTACH;FMTTYPE=image/jpeg:https://whatsupfortworth.com/wp-content/uploads/2026/04/RW-TinWoman.jpg
ORGANIZER;CN="Runway Theatre":MAILTO:reservations@runwaytheatre.com
END:VEVENT
BEGIN:VEVENT
DTSTART;TZID=America/Chicago:20260530T200000
DTEND;TZID=America/Chicago:20260530T220000
DTSTAMP:20260421T114020
CREATED:20260415T213936Z
LAST-MODIFIED:20260415T213936Z
UID:10016217-1780171200-1780178400@whatsupfortworth.com
SUMMARY:The Tin Woman
DESCRIPTION:When Joy receives a life-saving heart transplant\, she struggles with guilt and purpose—until she meets the grieving family of her donor. What follows is a funny\, touching\, and deeply human story about unexpected connections\, healing\, and the humor found in life’s most tender moments. The Tin Woman proves that sometimes\, the best way to move forward is to laugh through the pain. \nRated PG
URL:https://whatsupfortworth.com/event/the-tin-woman/2026-05-30/
LOCATION:Runway Theatre\, 215 N Dooley Street\, Grapevine\, 76051\, United States
CATEGORIES:Live Theatre & Performing Arts
ATTACH;FMTTYPE=image/jpeg:https://whatsupfortworth.com/wp-content/uploads/2026/04/RW-TinWoman.jpg
ORGANIZER;CN="Runway Theatre":MAILTO:reservations@runwaytheatre.com
END:VEVENT
BEGIN:VEVENT
DTSTART;TZID=America/Chicago:20260531T150000
DTEND;TZID=America/Chicago:20260531T170000
DTSTAMP:20260421T114020
CREATED:20260415T213936Z
LAST-MODIFIED:20260415T213936Z
UID:10016218-1780239600-1780246800@whatsupfortworth.com
SUMMARY:The Tin Woman
DESCRIPTION:When Joy receives a life-saving heart transplant\, she struggles with guilt and purpose—until she meets the grieving family of her donor. What follows is a funny\, touching\, and deeply human story about unexpected connections\, healing\, and the humor found in life’s most tender moments. The Tin Woman proves that sometimes\, the best way to move forward is to laugh through the pain. \nRated PG
URL:https://whatsupfortworth.com/event/the-tin-woman/2026-05-31/
LOCATION:Runway Theatre\, 215 N Dooley Street\, Grapevine\, 76051\, United States
CATEGORIES:Live Theatre & Performing Arts
ATTACH;FMTTYPE=image/jpeg:https://whatsupfortworth.com/wp-content/uploads/2026/04/RW-TinWoman.jpg
ORGANIZER;CN="Runway Theatre":MAILTO:reservations@runwaytheatre.com
END:VEVENT
BEGIN:VEVENT
DTSTART;TZID=America/Chicago:20260606T150000
DTEND;TZID=America/Chicago:20260606T170000
DTSTAMP:20260421T114020
CREATED:20260415T213936Z
LAST-MODIFIED:20260415T213936Z
UID:10016219-1780758000-1780765200@whatsupfortworth.com
SUMMARY:The Tin Woman
DESCRIPTION:When Joy receives a life-saving heart transplant\, she struggles with guilt and purpose—until she meets the grieving family of her donor. What follows is a funny\, touching\, and deeply human story about unexpected connections\, healing\, and the humor found in life’s most tender moments. The Tin Woman proves that sometimes\, the best way to move forward is to laugh through the pain. \nRated PG
URL:https://whatsupfortworth.com/event/the-tin-woman/2026-06-06/1/
LOCATION:Runway Theatre\, 215 N Dooley Street\, Grapevine\, 76051\, United States
CATEGORIES:Live Theatre & Performing Arts
ATTACH;FMTTYPE=image/jpeg:https://whatsupfortworth.com/wp-content/uploads/2026/04/RW-TinWoman.jpg
ORGANIZER;CN="Runway Theatre":MAILTO:reservations@runwaytheatre.com
END:VEVENT
BEGIN:VEVENT
DTSTART;TZID=America/Chicago:20260606T200000
DTEND;TZID=America/Chicago:20260606T220000
DTSTAMP:20260421T114020
CREATED:20260415T213936Z
LAST-MODIFIED:20260415T213936Z
UID:10016220-1780776000-1780783200@whatsupfortworth.com
SUMMARY:The Tin Woman
DESCRIPTION:When Joy receives a life-saving heart transplant\, she struggles with guilt and purpose—until she meets the grieving family of her donor. What follows is a funny\, touching\, and deeply human story about unexpected connections\, healing\, and the humor found in life’s most tender moments. The Tin Woman proves that sometimes\, the best way to move forward is to laugh through the pain. \nRated PG
URL:https://whatsupfortworth.com/event/the-tin-woman/2026-06-06/2/
LOCATION:Runway Theatre\, 215 N Dooley Street\, Grapevine\, 76051\, United States
CATEGORIES:Live Theatre & Performing Arts
ATTACH;FMTTYPE=image/jpeg:https://whatsupfortworth.com/wp-content/uploads/2026/04/RW-TinWoman.jpg
ORGANIZER;CN="Runway Theatre":MAILTO:reservations@runwaytheatre.com
END:VEVENT
BEGIN:VEVENT
DTSTART;TZID=America/Chicago:20260607T150000
DTEND;TZID=America/Chicago:20260607T170000
DTSTAMP:20260421T114020
CREATED:20260415T213936Z
LAST-MODIFIED:20260415T213936Z
UID:10016221-1780844400-1780851600@whatsupfortworth.com
SUMMARY:The Tin Woman
DESCRIPTION:When Joy receives a life-saving heart transplant\, she struggles with guilt and purpose—until she meets the grieving family of her donor. What follows is a funny\, touching\, and deeply human story about unexpected connections\, healing\, and the humor found in life’s most tender moments. The Tin Woman proves that sometimes\, the best way to move forward is to laugh through the pain. \nRated PG
URL:https://whatsupfortworth.com/event/the-tin-woman/2026-06-07/
LOCATION:Runway Theatre\, 215 N Dooley Street\, Grapevine\, 76051\, United States
CATEGORIES:Live Theatre & Performing Arts
ATTACH;FMTTYPE=image/jpeg:https://whatsupfortworth.com/wp-content/uploads/2026/04/RW-TinWoman.jpg
ORGANIZER;CN="Runway Theatre":MAILTO:reservations@runwaytheatre.com
END:VEVENT
BEGIN:VEVENT
DTSTART;TZID=America/Chicago:20260612T200000
DTEND;TZID=America/Chicago:20260612T220000
DTSTAMP:20260421T114020
CREATED:20260415T213936Z
LAST-MODIFIED:20260415T213936Z
UID:10016222-1781294400-1781301600@whatsupfortworth.com
SUMMARY:The Tin Woman
DESCRIPTION:When Joy receives a life-saving heart transplant\, she struggles with guilt and purpose—until she meets the grieving family of her donor. What follows is a funny\, touching\, and deeply human story about unexpected connections\, healing\, and the humor found in life’s most tender moments. The Tin Woman proves that sometimes\, the best way to move forward is to laugh through the pain. \nRated PG
URL:https://whatsupfortworth.com/event/the-tin-woman/2026-06-12/
LOCATION:Runway Theatre\, 215 N Dooley Street\, Grapevine\, 76051\, United States
CATEGORIES:Live Theatre & Performing Arts
ATTACH;FMTTYPE=image/jpeg:https://whatsupfortworth.com/wp-content/uploads/2026/04/RW-TinWoman.jpg
ORGANIZER;CN="Runway Theatre":MAILTO:reservations@runwaytheatre.com
END:VEVENT
BEGIN:VEVENT
DTSTART;TZID=America/Chicago:20260613T200000
DTEND;TZID=America/Chicago:20260613T220000
DTSTAMP:20260421T114020
CREATED:20260415T213936Z
LAST-MODIFIED:20260415T213936Z
UID:10016223-1781380800-1781388000@whatsupfortworth.com
SUMMARY:The Tin Woman
DESCRIPTION:When Joy receives a life-saving heart transplant\, she struggles with guilt and purpose—until she meets the grieving family of her donor. What follows is a funny\, touching\, and deeply human story about unexpected connections\, healing\, and the humor found in life’s most tender moments. The Tin Woman proves that sometimes\, the best way to move forward is to laugh through the pain. \nRated PG
URL:https://whatsupfortworth.com/event/the-tin-woman/2026-06-13/
LOCATION:Runway Theatre\, 215 N Dooley Street\, Grapevine\, 76051\, United States
CATEGORIES:Live Theatre & Performing Arts
ATTACH;FMTTYPE=image/jpeg:https://whatsupfortworth.com/wp-content/uploads/2026/04/RW-TinWoman.jpg
ORGANIZER;CN="Runway Theatre":MAILTO:reservations@runwaytheatre.com
END:VEVENT
BEGIN:VEVENT
DTSTART;TZID=America/Chicago:20260614T150000
DTEND;TZID=America/Chicago:20260614T170000
DTSTAMP:20260421T114020
CREATED:20260415T213936Z
LAST-MODIFIED:20260415T213936Z
UID:10016224-1781449200-1781456400@whatsupfortworth.com
SUMMARY:The Tin Woman
DESCRIPTION:When Joy receives a life-saving heart transplant\, she struggles with guilt and purpose—until she meets the grieving family of her donor. What follows is a funny\, touching\, and deeply human story about unexpected connections\, healing\, and the humor found in life’s most tender moments. The Tin Woman proves that sometimes\, the best way to move forward is to laugh through the pain. \nRated PG
URL:https://whatsupfortworth.com/event/the-tin-woman/2026-06-14/
LOCATION:Runway Theatre\, 215 N Dooley Street\, Grapevine\, 76051\, United States
CATEGORIES:Live Theatre & Performing Arts
ATTACH;FMTTYPE=image/jpeg:https://whatsupfortworth.com/wp-content/uploads/2026/04/RW-TinWoman.jpg
ORGANIZER;CN="Runway Theatre":MAILTO:reservations@runwaytheatre.com
END:VEVENT
END:VCALENDAR