BEGIN:VCALENDAR
VERSION:2.0
PRODID:-//What&#039;s Up Fort Worth? - ECPv6.15.20//NONSGML v1.0//EN
CALSCALE:GREGORIAN
METHOD:PUBLISH
X-WR-CALNAME:What&#039;s Up Fort Worth?
X-ORIGINAL-URL:https://whatsupfortworth.com
X-WR-CALDESC:Events for What&#039;s Up Fort Worth?
REFRESH-INTERVAL;VALUE=DURATION:PT1H
X-Robots-Tag:noindex
X-PUBLISHED-TTL:PT1H
BEGIN:VTIMEZONE
TZID:America/Chicago
BEGIN:DAYLIGHT
TZOFFSETFROM:-0600
TZOFFSETTO:-0500
TZNAME:CDT
DTSTART:20250309T080000
END:DAYLIGHT
BEGIN:STANDARD
TZOFFSETFROM:-0500
TZOFFSETTO:-0600
TZNAME:CST
DTSTART:20251102T070000
END:STANDARD
BEGIN:DAYLIGHT
TZOFFSETFROM:-0600
TZOFFSETTO:-0500
TZNAME:CDT
DTSTART:20260308T080000
END:DAYLIGHT
BEGIN:STANDARD
TZOFFSETFROM:-0500
TZOFFSETTO:-0600
TZNAME:CST
DTSTART:20261101T070000
END:STANDARD
BEGIN:DAYLIGHT
TZOFFSETFROM:-0600
TZOFFSETTO:-0500
TZNAME:CDT
DTSTART:20270314T080000
END:DAYLIGHT
BEGIN:STANDARD
TZOFFSETFROM:-0500
TZOFFSETTO:-0600
TZNAME:CST
DTSTART:20271107T070000
END:STANDARD
END:VTIMEZONE
BEGIN:VEVENT
DTSTART;TZID=America/Chicago:20260424T193000
DTEND;TZID=America/Chicago:20260424T220000
DTSTAMP:20260421T131750
CREATED:20260415T215148Z
LAST-MODIFIED:20260415T215148Z
UID:10016226-1777059000-1777068000@whatsupfortworth.com
SUMMARY:Spanish Masters: An Evening of Music and Art
DESCRIPTION:Spanish Masters: An Evening of Music and Art \nFriday\, April 24 at 7:30pm\, Saturday\, April 25 at 7:30pm\, Sunday\, April 28 at 2pm \nBass Performance Hall \nhttps://fwsymphony.org/concert-archive/25-26-season/symphonic-series/spanish-masters-an-evening-of-music-and-art \nThe ballet The Three-Cornered Hat chronicles a magistrate’s attempt to seduce a miller’s faithful wife with a lightly spiced score of colorful orchestral dances drawn from Andalusian folk music by Spanish composer Manuel de Falla. For this special performance\, the Fort Worth Symphony Orchestra has partnered with the Kimbell Art Museum to project exquisite Spanish masterpieces during the concert\, which also features Ravel’s Rapsodie espagnole and the incomparable mezzo Kelley O’Connor singing American composer Peter Lieberson’s Neruda Songs\, drawn from the poetry of Pablo Neruda. \nWORKS: \nRAVEL: Rapsodie espagnole\nLIEBERSON: Neruda Songs\nFALLA: The Three-Cornered Hat \nFEATURED ARTISTS: \nRobert Spano\, conductor\nKelley O’Connor\, mezzo-soprano\nKrista Billings\, lighting designer\nJamie Milligan\, projection design
URL:https://whatsupfortworth.com/event/spanish-masters-an-evening-of-music-and-art-4/2026-04-24/
LOCATION:Bass Performance Hall\, 525 Commerce Street\, Fort Worth\, 76102\, United States
CATEGORIES:Live Theatre & Performing Arts
ATTACH;FMTTYPE=image/png:https://whatsupfortworth.com/wp-content/uploads/2026/04/SpanishMastersAd_Socials-1080x1080-1-scaled.png
ORGANIZER;CN="Fort Worth Symphony Orchestra":MAILTO:boxoffice@fwsymphony.org
END:VEVENT
BEGIN:VEVENT
DTSTART;TZID=America/Chicago:20260425T193000
DTEND;TZID=America/Chicago:20260425T220000
DTSTAMP:20260421T131750
CREATED:20260415T215148Z
LAST-MODIFIED:20260415T215148Z
UID:10016227-1777145400-1777154400@whatsupfortworth.com
SUMMARY:Spanish Masters: An Evening of Music and Art
DESCRIPTION:Spanish Masters: An Evening of Music and Art \nFriday\, April 24 at 7:30pm\, Saturday\, April 25 at 7:30pm\, Sunday\, April 28 at 2pm \nBass Performance Hall \nhttps://fwsymphony.org/concert-archive/25-26-season/symphonic-series/spanish-masters-an-evening-of-music-and-art \nThe ballet The Three-Cornered Hat chronicles a magistrate’s attempt to seduce a miller’s faithful wife with a lightly spiced score of colorful orchestral dances drawn from Andalusian folk music by Spanish composer Manuel de Falla. For this special performance\, the Fort Worth Symphony Orchestra has partnered with the Kimbell Art Museum to project exquisite Spanish masterpieces during the concert\, which also features Ravel’s Rapsodie espagnole and the incomparable mezzo Kelley O’Connor singing American composer Peter Lieberson’s Neruda Songs\, drawn from the poetry of Pablo Neruda. \nWORKS: \nRAVEL: Rapsodie espagnole\nLIEBERSON: Neruda Songs\nFALLA: The Three-Cornered Hat \nFEATURED ARTISTS: \nRobert Spano\, conductor\nKelley O’Connor\, mezzo-soprano\nKrista Billings\, lighting designer\nJamie Milligan\, projection design
URL:https://whatsupfortworth.com/event/spanish-masters-an-evening-of-music-and-art-4/2026-04-25/
LOCATION:Bass Performance Hall\, 525 Commerce Street\, Fort Worth\, 76102\, United States
CATEGORIES:Live Theatre & Performing Arts
ATTACH;FMTTYPE=image/png:https://whatsupfortworth.com/wp-content/uploads/2026/04/SpanishMastersAd_Socials-1080x1080-1-scaled.png
ORGANIZER;CN="Fort Worth Symphony Orchestra":MAILTO:boxoffice@fwsymphony.org
END:VEVENT
BEGIN:VEVENT
DTSTART;TZID=America/Chicago:20260426T140000
DTEND;TZID=America/Chicago:20260426T170000
DTSTAMP:20260421T131750
CREATED:20260415T215148Z
LAST-MODIFIED:20260415T215148Z
UID:10016228-1777212000-1777222800@whatsupfortworth.com
SUMMARY:Spanish Masters: An Evening of Music and Art
DESCRIPTION:Spanish Masters: An Evening of Music and Art \nFriday\, April 24 at 7:30pm\, Saturday\, April 25 at 7:30pm\, Sunday\, April 28 at 2pm \nBass Performance Hall \nhttps://fwsymphony.org/concert-archive/25-26-season/symphonic-series/spanish-masters-an-evening-of-music-and-art \nThe ballet The Three-Cornered Hat chronicles a magistrate’s attempt to seduce a miller’s faithful wife with a lightly spiced score of colorful orchestral dances drawn from Andalusian folk music by Spanish composer Manuel de Falla. For this special performance\, the Fort Worth Symphony Orchestra has partnered with the Kimbell Art Museum to project exquisite Spanish masterpieces during the concert\, which also features Ravel’s Rapsodie espagnole and the incomparable mezzo Kelley O’Connor singing American composer Peter Lieberson’s Neruda Songs\, drawn from the poetry of Pablo Neruda. \nWORKS: \nRAVEL: Rapsodie espagnole\nLIEBERSON: Neruda Songs\nFALLA: The Three-Cornered Hat \nFEATURED ARTISTS: \nRobert Spano\, conductor\nKelley O’Connor\, mezzo-soprano\nKrista Billings\, lighting designer\nJamie Milligan\, projection design
URL:https://whatsupfortworth.com/event/spanish-masters-an-evening-of-music-and-art-4/2026-04-26/
LOCATION:Bass Performance Hall\, 525 Commerce Street\, Fort Worth\, 76102\, United States
CATEGORIES:Live Theatre & Performing Arts
ATTACH;FMTTYPE=image/png:https://whatsupfortworth.com/wp-content/uploads/2026/04/SpanishMastersAd_Socials-1080x1080-1-scaled.png
ORGANIZER;CN="Fort Worth Symphony Orchestra":MAILTO:boxoffice@fwsymphony.org
END:VEVENT
END:VCALENDAR