BEGIN:VCALENDAR
VERSION:2.0
PRODID:-//What&#039;s Up Fort Worth? - ECPv6.15.20//NONSGML v1.0//EN
CALSCALE:GREGORIAN
METHOD:PUBLISH
X-WR-CALNAME:What&#039;s Up Fort Worth?
X-ORIGINAL-URL:https://whatsupfortworth.com
X-WR-CALDESC:Events for What&#039;s Up Fort Worth?
REFRESH-INTERVAL;VALUE=DURATION:PT1H
X-Robots-Tag:noindex
X-PUBLISHED-TTL:PT1H
BEGIN:VTIMEZONE
TZID:America/Chicago
BEGIN:DAYLIGHT
TZOFFSETFROM:-0600
TZOFFSETTO:-0500
TZNAME:CDT
DTSTART:20250309T080000
END:DAYLIGHT
BEGIN:STANDARD
TZOFFSETFROM:-0500
TZOFFSETTO:-0600
TZNAME:CST
DTSTART:20251102T070000
END:STANDARD
BEGIN:DAYLIGHT
TZOFFSETFROM:-0600
TZOFFSETTO:-0500
TZNAME:CDT
DTSTART:20260308T080000
END:DAYLIGHT
BEGIN:STANDARD
TZOFFSETFROM:-0500
TZOFFSETTO:-0600
TZNAME:CST
DTSTART:20261101T070000
END:STANDARD
BEGIN:DAYLIGHT
TZOFFSETFROM:-0600
TZOFFSETTO:-0500
TZNAME:CDT
DTSTART:20270314T080000
END:DAYLIGHT
BEGIN:STANDARD
TZOFFSETFROM:-0500
TZOFFSETTO:-0600
TZNAME:CST
DTSTART:20271107T070000
END:STANDARD
END:VTIMEZONE
BEGIN:VEVENT
DTSTART;TZID=America/Chicago:20260422T213000
DTEND;TZID=America/Chicago:20260422T231500
DTSTAMP:20260422T095415
CREATED:20260415T215521Z
LAST-MODIFIED:20260415T215521Z
UID:10016258-1776893400-1776899700@whatsupfortworth.com
SUMMARY:Wizop Wednesday's Open Mic Night
DESCRIPTION:Wizop Wednesdays: Open Mic Comedy \nLooking for a midweek jolt of ridiculous? Wizop Wednesdays is where fresh jokes are born\, wild bits get tested\, and legends-in-the-making grab the mic. It’s raw\, fast\, and absolutely addictive\, your new Wednesday night ritual. \nExpect lightning-quick sets\, unexpected riffs\, and the kind of crowd energy you can’t fake. Whether you’re chasing stage time or chasing laughs\, this is the room. \n  \nWhat to expect \nA rapid-fire showcase of new and veteran comics\nOff-the-cuff moments you won’t see on Netflix\nA laid-back\, late-night vibe that punches way above its weight \nComedian Sign-Up: 8:30pm at the venue (get there early — spots go fast)\nShowtime: 9:30pm\nBig Laugh Comedy Club | 604 Main St\, Fort Worth \nTICKETS? PAY WHAT YOU WANT. SERIOUSLY.\nIf you’re broke\, pick $0 and come laugh for free.\nIf you’ve got a little cash and want to support\, toss in $10\, $20\, $50… hell\, make it rain if you’re feeling spicy.\nJust pick your price in the little white box and grab your seats. All the money helps keep the laughs coming — paying comedians and keeping the lights on. \nSo come out. Be part of the magic. Just sit back\, sip something strong\, and laugh your ass off. \nIt’s Wizop Wednesdays. Where comedy gets better and so does your night. \n  \nDoors open at 9pm | Show starts at 9:30pm \nThe show is for 18+. Must present valid ID at the door.\nThe show runs for 90 minutes long. \nGarage Parking Options\nCity Center Garage #2 – 400 Jones Street\nFree on weekdays (6 PM – 3 AM) & weekends Friday 6 PM – Monday at 3 AM) \nThe Tower Garage – 400 Taylor Street\nFree on weekdays (6 PM – 3 AM) & weekends Friday 6 PM – Monday at 3 AM) \nStreet Parking Options\nDowntown parking meters are free every night after 6pm and on weekends! \n 
URL:https://whatsupfortworth.com/event/wizop-wednesdays-open-mic-night/2026-04-22/
LOCATION:Big Laugh Comedy Club – Fort Worth\, 604 Main St\, Suite 100\, Fort Worth\, TX\, 76102\, United States
CATEGORIES:Comedy
ATTACH;FMTTYPE=image/jpeg:https://whatsupfortworth.com/wp-content/uploads/2026/04/banner-2.jpg
ORGANIZER;CN="Big Laugh Comedy Club - Fort Worth":MAILTO:info@blcomedy.com
END:VEVENT
BEGIN:VEVENT
DTSTART;TZID=America/Chicago:20260429T213000
DTEND;TZID=America/Chicago:20260429T231500
DTSTAMP:20260422T095415
CREATED:20260415T215521Z
LAST-MODIFIED:20260415T215521Z
UID:10016259-1777498200-1777504500@whatsupfortworth.com
SUMMARY:Wizop Wednesday's Open Mic Night
DESCRIPTION:Wizop Wednesdays: Open Mic Comedy \nLooking for a midweek jolt of ridiculous? Wizop Wednesdays is where fresh jokes are born\, wild bits get tested\, and legends-in-the-making grab the mic. It’s raw\, fast\, and absolutely addictive\, your new Wednesday night ritual. \nExpect lightning-quick sets\, unexpected riffs\, and the kind of crowd energy you can’t fake. Whether you’re chasing stage time or chasing laughs\, this is the room. \n  \nWhat to expect \nA rapid-fire showcase of new and veteran comics\nOff-the-cuff moments you won’t see on Netflix\nA laid-back\, late-night vibe that punches way above its weight \nComedian Sign-Up: 8:30pm at the venue (get there early — spots go fast)\nShowtime: 9:30pm\nBig Laugh Comedy Club | 604 Main St\, Fort Worth \nTICKETS? PAY WHAT YOU WANT. SERIOUSLY.\nIf you’re broke\, pick $0 and come laugh for free.\nIf you’ve got a little cash and want to support\, toss in $10\, $20\, $50… hell\, make it rain if you’re feeling spicy.\nJust pick your price in the little white box and grab your seats. All the money helps keep the laughs coming — paying comedians and keeping the lights on. \nSo come out. Be part of the magic. Just sit back\, sip something strong\, and laugh your ass off. \nIt’s Wizop Wednesdays. Where comedy gets better and so does your night. \n  \nDoors open at 9pm | Show starts at 9:30pm \nThe show is for 18+. Must present valid ID at the door.\nThe show runs for 90 minutes long. \nGarage Parking Options\nCity Center Garage #2 – 400 Jones Street\nFree on weekdays (6 PM – 3 AM) & weekends Friday 6 PM – Monday at 3 AM) \nThe Tower Garage – 400 Taylor Street\nFree on weekdays (6 PM – 3 AM) & weekends Friday 6 PM – Monday at 3 AM) \nStreet Parking Options\nDowntown parking meters are free every night after 6pm and on weekends! \n 
URL:https://whatsupfortworth.com/event/wizop-wednesdays-open-mic-night/2026-04-29/
LOCATION:Big Laugh Comedy Club – Fort Worth\, 604 Main St\, Suite 100\, Fort Worth\, TX\, 76102\, United States
CATEGORIES:Comedy
ATTACH;FMTTYPE=image/jpeg:https://whatsupfortworth.com/wp-content/uploads/2026/04/banner-2.jpg
ORGANIZER;CN="Big Laugh Comedy Club - Fort Worth":MAILTO:info@blcomedy.com
END:VEVENT
END:VCALENDAR